BEGIN:VCALENDAR
VERSION:2.0
PRODID:-//87.118.90.70//NONSGML kigkonsult.se iCalcreator 2.20//
CALSCALE:GREGORIAN
METHOD:PUBLISH
X-WR-TIMEZONE:Europe/Berlin
BEGIN:VEVENT
UID:event88@DGfPM e.V.
DTSTAMP:20260425T130229Z
CATEGORIES:Termine
DESCRIPTION:Play together – Come together Student’s Academy of the European
  Forum of Psychomotricity\nKategorie: Termine\nICS-Link: https://dgfpm.com
 /index.php?option=com_jem&view=event&id=88:play-together-–-come-together-s
 tudent’s-academy-of-the-european-forum-of-psychomotricity\n
DTSTART;VALUE=DATE:20190424
DTEND;VALUE=DATE:20190429
SUMMARY:Play together – Come together Student’s Academy of the European For
 um of Psychomotricity
END:VEVENT
END:VCALENDAR
