BEGIN:VCALENDAR
VERSION:2.0
PRODID:-//87.118.90.70//NONSGML kigkonsult.se iCalcreator 2.20//
CALSCALE:GREGORIAN
METHOD:PUBLISH
X-WR-TIMEZONE:Europe/Berlin
BEGIN:VEVENT
UID:event38@DGfPM e.V.
DTSTAMP:20260422T085545Z
CATEGORIES:Termine
DESCRIPTION:Von Zahlen und Formen – Bewegte Mathematik\nKategorie: Termine
 \nICS-Link: https://dgfpm.com/index.php?option=com_jem&view=event&id=38:vo
 n-zahlen-und-formen-–-bewegte-mathematik\n
DTSTART;VALUE=DATE:20180511
DTEND;VALUE=DATE:20180513
LOCATION:LWL Uni-Klinik Hamm\, Kinder- und Jugendpsychiatrie\,Heithofer All
 ee 64\,59071 Hamm
SUMMARY:Von Zahlen und Formen – Bewegte Mathematik
END:VEVENT
END:VCALENDAR
