BEGIN:VCALENDAR
VERSION:2.0
PRODID:-//87.118.90.70//NONSGML kigkonsult.se iCalcreator 2.20//
CALSCALE:GREGORIAN
METHOD:PUBLISH
X-WR-TIMEZONE:Europe/Berlin
BEGIN:VEVENT
UID:event35@DGfPM e.V.
DTSTAMP:20260424T205623Z
CATEGORIES:Termine
DESCRIPTION:Meine Sprache\, deine Sprache – Vom inneren Bild zum sprachlich
 en Ausdruck im kulturellen Kontext\nKategorie: Termine\nICS-Link: https://
 dgfpm.com/index.php?option=com_jem&view=event&id=35:meine-sprache\,-deine-
 sprache-–-vom-inneren-bild-zum-sprachlichen-ausdruck-im-kulturellen-kontex
 t\n
DTSTART;VALUE=DATE:20180427
DTEND;VALUE=DATE:20180430
LOCATION:Schule im Caritas Förderzentrum St. Laurentius und\,Queichheimer-H
 auptstr. 235 \,76829 Landau
SUMMARY:Meine Sprache\, deine Sprache – Vom inneren Bild zum sprachlichen A
 usdruck im kulturellen Kontext
END:VEVENT
END:VCALENDAR
