BEGIN:VCALENDAR
VERSION:2.0
PRODID:-//87.118.90.70//NONSGML kigkonsult.se iCalcreator 2.20//
CALSCALE:GREGORIAN
METHOD:PUBLISH
X-WR-TIMEZONE:Europe/Berlin
BEGIN:VEVENT
UID:event28@DGfPM e.V.
DTSTAMP:20260421T191556Z
CATEGORIES:Termine
DESCRIPTION:'Fingerspitzengefühle'\nKategorie: Termine\nICS-Link: https://d
 gfpm.com/index.php?option=com_jem&view=event&id=28:fingerspitzengefühle\n
DTSTART;TZID=Europe/Berlin:20180428T090000
DTEND;TZID=Europe/Berlin:20180428T160000
LOCATION:Kath. Integratives Familienzentrum St. Martinus   \,An der Bauerba
 nk 6\,50354 Hürth
SUMMARY:'Fingerspitzengefühle'
END:VEVENT
END:VCALENDAR
