BEGIN:VCALENDAR
VERSION:2.0
PRODID:-//87.118.90.70//NONSGML kigkonsult.se iCalcreator 2.20//
CALSCALE:GREGORIAN
METHOD:PUBLISH
X-WR-TIMEZONE:Europe/Berlin
BEGIN:VEVENT
UID:event110@DGfPM e.V.
DTSTAMP:20260424T054355Z
CATEGORIES:Termine
DESCRIPTION:„Was mir ins Auge fällt“ – Beobachtung in der Psychomotorik\nKa
 tegorie: Termine\nICS-Link: https://dgfpm.com/index.php?option=com_jem&vie
 w=event&id=110:„was-mir-ins-auge-fällt“-–-beobachtung-in-der-psychomotorik
 \n
DTSTART;VALUE=DATE:20200612
DTEND;VALUE=DATE:20200614
LOCATION:Dreifürstensteinschule\,Mössingen
SUMMARY:„Was mir ins Auge fällt“ – Beobachtung in der Psychomotorik
END:VEVENT
END:VCALENDAR
