BEGIN:VCALENDAR
VERSION:2.0
PRODID:-//87.118.90.70//NONSGML kigkonsult.se iCalcreator 2.20//
CALSCALE:GREGORIAN
METHOD:PUBLISH
X-WR-TIMEZONE:Europe/Berlin
BEGIN:VEVENT
UID:event109@DGfPM e.V.
DTSTAMP:20260424T070549Z
CATEGORIES:Termine
DESCRIPTION:„Kleine Zeichen - große Wirkung“ – Umschriebene Entwicklungsstö
 rungen erkennen und fördern?\nKategorie: Termine\nICS-Link: https://dgfpm.
 com/index.php?option=com_jem&view=event&id=109:„kleine-zeichen-große-wirku
 ng“-–-umschriebene-entwicklungsstörungen-erkennen-und-fördern\n
DTSTART;VALUE=DATE:20200313
DTEND;VALUE=DATE:20200315
LOCATION:Dreifürstensteinschule\,Mössingen
SUMMARY:„Kleine Zeichen - große Wirkung“ – Umschriebene Entwicklungsstörung
 en erkennen und fördern?
END:VEVENT
END:VCALENDAR
