BEGIN:VCALENDAR
VERSION:2.0
PRODID:-//87.118.90.70//NONSGML kigkonsult.se iCalcreator 2.20//
CALSCALE:GREGORIAN
METHOD:PUBLISH
X-WR-TIMEZONE:Europe/Berlin
BEGIN:VEVENT
UID:event106@DGfPM e.V.
DTSTAMP:20260421T102517Z
CATEGORIES:Termine
DESCRIPTION:„Die weiße Wolke im Gehirn“ –  Trauma verstehen und psychomotor
 isch begleiten\nKategorie: Termine\nICS-Link: https://dgfpm.com/index.php?
 option=com_jem&view=event&id=106:„die-weiße-wolke-im-gehirn“-–-trauma-vers
 tehen-und-psychomotorisch-begleiten\n
DTSTART;VALUE=DATE:20200619
DTEND;VALUE=DATE:20200621
LOCATION:SFW Bildungszentrum Vierzehnheiligen der GGSD\,Bad Staffelstein
SUMMARY:„Die weiße Wolke im Gehirn“ –  Trauma verstehen und psychomotorisch
  begleiten
END:VEVENT
END:VCALENDAR
